BEGIN:VCALENDAR
VERSION:2.0
PRODID:-//CUENCA EXPAT ASSIST - ECPv6.15.17//NONSGML v1.0//EN
CALSCALE:GREGORIAN
METHOD:PUBLISH
X-WR-CALNAME:CUENCA EXPAT ASSIST
X-ORIGINAL-URL:https://cuencaexpatassist.org
X-WR-CALDESC:Events for CUENCA EXPAT ASSIST
REFRESH-INTERVAL;VALUE=DURATION:PT1H
X-Robots-Tag:noindex
X-PUBLISHED-TTL:PT1H
BEGIN:VTIMEZONE
TZID:America/Guayaquil
BEGIN:STANDARD
TZOFFSETFROM:-0500
TZOFFSETTO:-0500
TZNAME:-05
DTSTART:20250101T000000
END:STANDARD
END:VTIMEZONE
BEGIN:VEVENT
DTSTART;TZID=America/Guayaquil:20260420T180000
DTEND;TZID=America/Guayaquil:20260420T200000
DTSTAMP:20260423T131838
CREATED:20230606T114317Z
LAST-MODIFIED:20260417T000226Z
UID:1992-1776708000-1776715200@cuencaexpatassist.org
SUMMARY:Monday Language Exchange
DESCRIPTION:Lirondo Brasserie Restaurante.. \nAt that time\, please join a congenial group of people in conversing in Spanish and English. All levels of ability are welcome. \nThe intercambio is free\, but please consider purchasing a beverage or a food item to help support the restaurant in return for the gracious donation of their charming space. \nNo need to confirm your attendance; just show up and enjoy. \nFree 6pm-8pm\, \nBenigno Malo 9-55 y Simon Bolivar\, across from the Tosi Parqueadero \nBruce Peterson: bruceptrsn@gmail.com
URL:https://cuencaexpatassist.org/event/monday-language-exchange/
CATEGORIES:Language
END:VEVENT
BEGIN:VEVENT
DTSTART;TZID=America/Guayaquil:20260417T183000
DTEND;TZID=America/Guayaquil:20260417T210000
DTSTAMP:20260423T131838
CREATED:20230614T122922Z
LAST-MODIFIED:20260417T000402Z
UID:1999-1776450600-1776459600@cuencaexpatassist.org
SUMMARY:Wednesday Language Exchange
DESCRIPTION:Discover a world of diversity and friendship at our weekly cultural exchange! Join us every Wednesday from 6:30 to 9 PM at our inclusive and social space\, where language exchange takes place and an international community is formed. \nAt our event\, you’ll have the opportunity to meet people from different cultures\, practice languages\, and share unique experiences. Whether you want to improve your language skills\, make new friends\, or simply immerse yourself in a multicultural atmosphere\, this exchange is the perfect place for you. \nWhether you’re a native speaker or learning a new language\, everyone is welcome. Come and join us to explore the richness of diversity and forge lasting international connections! \nEvery Wednesday\, 6:30 to 9 PM\, Free\, \nAv. Loja 2320 and Juan Bautista Vasquez \nRumi Duchicela: rduchice@hotmail.com
URL:https://cuencaexpatassist.org/event/wednesday-language-exchange/
CATEGORIES:Language
END:VEVENT
END:VCALENDAR