BEGIN:VCALENDAR
VERSION:2.0
PRODID:-//CUENCA EXPAT ASSIST - ECPv6.15.17//NONSGML v1.0//EN
CALSCALE:GREGORIAN
METHOD:PUBLISH
X-ORIGINAL-URL:https://cuencaexpatassist.org
X-WR-CALDESC:Events for CUENCA EXPAT ASSIST
REFRESH-INTERVAL;VALUE=DURATION:PT1H
X-Robots-Tag:noindex
X-PUBLISHED-TTL:PT1H
BEGIN:VTIMEZONE
TZID:America/Guayaquil
BEGIN:STANDARD
TZOFFSETFROM:-0500
TZOFFSETTO:-0500
TZNAME:-05
DTSTART:20250101T000000
END:STANDARD
END:VTIMEZONE
BEGIN:VEVENT
DTSTART;TZID=America/Guayaquil:20260421T140000
DTEND;TZID=America/Guayaquil:20260421T140000
DTSTAMP:20260423T132112
CREATED:20230606T114044Z
LAST-MODIFIED:20260417T000156Z
UID:1990-1776780000-1776780000@cuencaexpatassist.org
SUMMARY:Cribbage Tuesdays
DESCRIPTION:Our informal Cribbage group meets Tuesdays at 2 PM until 5 PM or whenever you want to leave. Whether you are a beginner\, a Crib Whiz or any place in between\, you are welcome to join us. We have Cuenca long-timers and newbies. Everyone is welcome. \nCarlos Quinto y Parque Bilbao\, Cuenca\, Ecuador\, Free \nRuth Bennett: 593 99 391 7611
URL:https://cuencaexpatassist.org/event/cribbage-tuesdays/
CATEGORIES:Social
END:VEVENT
END:VCALENDAR